BEGIN:VCALENDAR
VERSION:2.0
PRODID:-//eventon.com NONSGML v1.0//EN
BEGIN:VEVENT
UID:69e738625a418
DTSTAMP:20260421T104210
DTSTART:20161127T100000Z
DTEND:20161127T120000Z
LOCATION:Schaubühne Kurfürstendamm 153\,  10967 Berlin
SUMMARY:Streitraum: Grenzen der Herkunft\,  Grenzen der Scham
DESCRIPTION: In seinem beeindruckenden Buch »Die Rückkehr nach Reims« erzählt der französische Soziologe Didier Eribon von der doppelten Scham\,  die ihn als Homosexueller und als Arbeitersohn belastete. In seiner so berührenden wie beeindruckenden Analyse beschreibt Eribon\,  was seine soziale Herkunft in einer klassenbewussten Gesellschaft\,  die gleichzeitig die Kategorie der Klasse leugnet\, [..]
END:VEVENT
END:VCALENDAR