BEGIN:VCALENDAR
VERSION:2.0
PRODID:-//eventon.com NONSGML v1.0//EN
BEGIN:VEVENT
UID:69e5e69aacec5
DTSTAMP:20260420T104058
DTSTART:20161101T173000Z
DTEND:20161031T220000Z
LOCATION:Literaturhaus Frankfurt Schöne Aussicht 2\,  60311 Frankfurt am Main
SUMMARY:Gegen den Hass: Ein Abend für Demokratie und Vielstimmigkeit
DESCRIPTION: Carolin Emcke schreibt „Gegen den Hass“. Ihr bei S. Fischer erschienener Essay ist ein Plädoyer für die Vielstimmigkeit und gegen den Fanatismus dieser Zeit. Mit „Gegen den Hass“ will Emcke das entgegensetzen\,  was den Hassenden abgeht: genaues Beobachten\,  Selbstzweifel und nicht nachlassendes Differenzieren. Gemeinsam mit der international gefeierten Cellistin Anja Lechner hat[..]
END:VEVENT
END:VCALENDAR