BEGIN:VCALENDAR
VERSION:2.0
PRODID:-//eventon.com NONSGML v1.0//EN
BEGIN:VEVENT
UID:69e73668a711f
DTSTAMP:20260421T103344
DTSTART:20251019T150000Z
DTEND:20251019T215000Z
LOCATION:LitCologne 
SUMMARY:Respekt ist zumutbar
DESCRIPTION: Wie umgehen mit Gewalt und Menschenfeindlichkeit? Was lässt sich autoritären Regimen und Angriffen auf Freiheit und Gleichheit entgegensetzen? Und was bedeutet Humanismus heute? Mit unbestechlichem Blick seziert CAROLIN EMCKE in ihrem neuen Buch RESPEKT IST ZUMUTBAR – versammelte Kolumnen und Reden aus den letzten zehn Jahren – soziale und politische Konflikte. Im Gespräch trifft[..]
END:VEVENT
END:VCALENDAR