BEGIN:VCALENDAR
VERSION:2.0
PRODID:-//eventon.com NONSGML v1.0//EN
BEGIN:VEVENT
UID:69e74f0659cca
DTSTAMP:20260421T121846
DTSTART:20221120T180000Z
DTEND:20221120T215000Z
LOCATION:Kaufleuten Pelikanplatz\,  8001 Zürich
SUMMARY:Ist das ein Mensch?
DESCRIPTION: «Ist das ein Mensch?» heisst eines der wichtigsten Bücher des 20. Jahrhunderts. Primo Levi hat es 1947 veröffentlicht\,  direkt nach seiner Befreiung aus dem Konzentrationslager. Die Autorinnen Carolin Emcke\,  Lena Gorelik und die Schauspielerin und Autorin Maryam Zeree werden sich an diesem Abend ganz dem Widerstand gegen das Vergessen widmen.[..]
END:VEVENT
END:VCALENDAR