BEGIN:VCALENDAR
VERSION:2.0
PRODID:-//eventon.com NONSGML v1.0//EN
BEGIN:VEVENT
UID:69e76074a9b0f
DTSTAMP:20260421T133308
DTSTART:20210617T180000Z
DTEND:20210617T215000Z
LOCATION:Dampfzentrale Bern 
SUMMARY:Barbara Bleisch trifft... Carolin Emcke
DESCRIPTION: «Barbara Bleisch trifft» – das ist der Titel einer neuen Gesprächsreihe in der Dampfzentrale Bern. Der Name ist Programm: Viermal im Jahr gehört die Bühne der bekannten Philosophin und Autorin Barbara Bleisch. Sie trifft jeweils eine inspirierende Persönlichkeit ihrer Wahl aus Kultur\,  Politik\,  Kunst und Wissenschaft zum Gespräch über das[..]
END:VEVENT
END:VCALENDAR